BEGIN:VCALENDAR
VERSION:2.0
PRODID: -//CMS 5.0 //NONSGML //DE
BEGIN:VEVENT
SUMMARY:Gottesdienst mit Stammapostel Schneider | Übertragung aus Hambu
 rg-Eppendorf
DESCRIPTION:\n\nhttps://berlin-gruenau.nak-nordost.de/db/485607
UID:485607@berlin-gruenau.nak-nordost.de
LOCATION:
CATEGORIES:Gottesdienst
X-ORGANIZER:
STATUS:CONFIRMED
CLASS:PUBLIC
DTSTART:20251214T090000Z
DTEND:20251214T103000Z
DTSTAMP:20260422T165726Z
CREATED:20250301T174116Z
LAST-MODIFIED:20250301T174221Z
BEGIN:VALARM
UID:57730D76-3E6C-11F1-921D-CD0B69372A87
TRIGGER:-PT60M
ACTION:DISPLAY
DESCRIPTION:SUMMARY:Gottesdienst mit Stammapostel Schneider | Übertragung aus Hambu
 rg-Eppendorf
END:VALARM
END:VEVENT
END:VCALENDAR
